BEGIN:VCALENDAR
VERSION:2.0
PRODID:-//wp-events-plugin.com//7.2.3.1//EN
TZID:Europe/Berlin
X-WR-TIMEZONE:Europe/Berlin
BEGIN:VEVENT
UID:225@spielwiese.mls-ehemalige.de
DTSTART;TZID=Europe/Berlin;VALUE=DATE:20221107
DTEND;TZID=Europe/Berlin;VALUE=DATE:20221119
DTSTAMP:20221004T091943Z
URL:https://spielwiese.mls-ehemalige.de/events/betriebspraktikum-jgst-9/
SUMMARY:Betriebspraktikum Jgst. 9
DESCRIPTION:
CATEGORIES:Termine
END:VEVENT
BEGIN:VTIMEZONE
TZID:Europe/Berlin
X-LIC-LOCATION:Europe/Berlin
BEGIN:STANDARD
DTSTART:20221030T020000
TZOFFSETFROM:+0200
TZOFFSETTO:+0100
TZNAME:CET
END:STANDARD
END:VTIMEZONE
END:VCALENDAR