BEGIN:VCALENDAR
VERSION:2.0
PRODID:-//wp-events-plugin.com//7.2.3.1//EN
TZID:Europe/Berlin
X-WR-TIMEZONE:Europe/Berlin
BEGIN:VEVENT
UID:285@spielwiese.mls-ehemalige.de
DTSTART;TZID=Europe/Berlin:20241111T080000
DTEND;TZID=Europe/Berlin:20241122T130000
DTSTAMP:20241007T113306Z
URL:https://spielwiese.mls-ehemalige.de/events/betriebspraktikum-klasse-9-
 2/
SUMMARY:Betriebspraktikum Klasse 9
DESCRIPTION:
END:VEVENT
BEGIN:VTIMEZONE
TZID:Europe/Berlin
X-LIC-LOCATION:Europe/Berlin
BEGIN:STANDARD
DTSTART:20241027T020000
TZOFFSETFROM:+0200
TZOFFSETTO:+0100
TZNAME:CET
END:STANDARD
END:VTIMEZONE
END:VCALENDAR