BEGIN:VCALENDAR
VERSION:2.0
PRODID:-//wp-events-plugin.com//7.2.3.1//EN
TZID:Europe/Berlin
X-WR-TIMEZONE:Europe/Berlin
BEGIN:VEVENT
UID:2@spielwiese.mls-ehemalige.de
DTSTART;TZID=Europe/Berlin:20161107T080000
DTEND;TZID=Europe/Berlin:20161118T131500
DTSTAMP:20161111T144414Z
URL:https://spielwiese.mls-ehemalige.de/events/betriebspraktikum-klassen-9
 /
SUMMARY:Betriebspraktikum Klassen 9
DESCRIPTION:
CATEGORIES:Termine
END:VEVENT
BEGIN:VTIMEZONE
TZID:Europe/Berlin
X-LIC-LOCATION:Europe/Berlin
BEGIN:STANDARD
DTSTART:20161030T020000
TZOFFSETFROM:+0200
TZOFFSETTO:+0100
TZNAME:CET
END:STANDARD
END:VTIMEZONE
END:VCALENDAR