BEGIN:VCALENDAR
VERSION:2.0
PRODID:-//wp-events-plugin.com//7.2.3.1//EN
TZID:Europe/Berlin
X-WR-TIMEZONE:Europe/Berlin
BEGIN:VEVENT
UID:257@spielwiese.mls-ehemalige.de
DTSTART;TZID=Europe/Berlin:20230628T190000
DTEND;TZID=Europe/Berlin:20230628T210000
DTSTAMP:20230524T101055Z
URL:https://spielwiese.mls-ehemalige.de/events/chor-und-orchesterkonzert-d
 er-mls/
SUMMARY:Chor- und Orchesterkonzert der MLS
DESCRIPTION:
LOCATION:Lutherische Pfarrkirche\, Lutherischer Kirchhof 1\, Marburg\, 3503
 7\, Deutschland
GEO:50.809026;8.768002
X-APPLE-STRUCTURED-LOCATION;VALUE=URI;X-ADDRESS=Lutherischer Kirchhof 1\, M
 arburg\, 35037\, Deutschland;X-APPLE-RADIUS=100;X-TITLE=Lutherische Pfarrk
 irche:geo:50.809026,8.768002
END:VEVENT
BEGIN:VTIMEZONE
TZID:Europe/Berlin
X-LIC-LOCATION:Europe/Berlin
BEGIN:DAYLIGHT
DTSTART:20230326T030000
TZOFFSETFROM:+0100
TZOFFSETTO:+0200
TZNAME:CEST
END:DAYLIGHT
END:VTIMEZONE
END:VCALENDAR