BEGIN:VCALENDAR
VERSION:2.0
PRODID:-//wp-events-plugin.com//7.2.3.1//EN
TZID:Europe/Berlin
X-WR-TIMEZONE:Europe/Berlin
BEGIN:VEVENT
UID:39@spielwiese.mls-ehemalige.de
DTSTART;TZID=Europe/Berlin:20170529T080000
DTEND;TZID=Europe/Berlin:20170530T131500
DTSTAMP:20170504T114520Z
URL:https://spielwiese.mls-ehemalige.de/events/hospitationmoeglichkeit-fue
 r-q2-unterrichtsfrei/
SUMMARY:Mündliches Abitur - Hospitationsmöglichkeit für Q2
DESCRIPTION:
CATEGORIES:Termine
END:VEVENT
BEGIN:VTIMEZONE
TZID:Europe/Berlin
X-LIC-LOCATION:Europe/Berlin
BEGIN:DAYLIGHT
DTSTART:20170326T030000
TZOFFSETFROM:+0100
TZOFFSETTO:+0200
TZNAME:CEST
END:DAYLIGHT
END:VTIMEZONE
END:VCALENDAR