BEGIN:VCALENDAR
VERSION:2.0
PRODID:-//wp-events-plugin.com//7.2.3.1//EN
TZID:Europe/Berlin
X-WR-TIMEZONE:Europe/Berlin
BEGIN:VEVENT
UID:25@spielwiese.mls-ehemalige.de
DTSTART;TZID=Europe/Berlin:20170224T080000
DTEND;TZID=Europe/Berlin:20170224T131500
DTSTAMP:20170112T132239Z
URL:https://spielwiese.mls-ehemalige.de/events/hospitationstag-fuer-neuauf
 nahmen-der-zukuenftigen-jgst-7/
SUMMARY:Hospitationstag für Neuaufnahmen der zukünftigen Jgst. 7
DESCRIPTION:Ein Hospitationstag für interessierte Schülerinnen und Schül
 er findet am Freitag\, den 24.02.2017\, in unseren 6. Klassen statt.
CATEGORIES:Termine
LOCATION:Martin-Luther-Schule\, Savignystraße 2\, Marburg\, Hessen\, 35037
 \, Deutschland
GEO:50.8107627;8.776724899999977
X-APPLE-STRUCTURED-LOCATION;VALUE=URI;X-ADDRESS=Savignystraße 2\, Marburg\
 , Hessen\, 35037\, Deutschland;X-APPLE-RADIUS=100;X-TITLE=Martin-Luther-Sc
 hule:geo:50.8107627,8.776724899999977
END:VEVENT
BEGIN:VTIMEZONE
TZID:Europe/Berlin
X-LIC-LOCATION:Europe/Berlin
BEGIN:STANDARD
DTSTART:20161030T020000
TZOFFSETFROM:+0200
TZOFFSETTO:+0100
TZNAME:CET
END:STANDARD
END:VTIMEZONE
END:VCALENDAR