BEGIN:VCALENDAR
VERSION:2.0
PRODID:-//wp-events-plugin.com//7.2.3.1//EN
TZID:Europe/Berlin
X-WR-TIMEZONE:Europe/Berlin
BEGIN:VEVENT
UID:23@spielwiese.mls-ehemalige.de
DTSTART;TZID=Europe/Berlin:20170215T200000
DTEND;TZID=Europe/Berlin:20170215T213000
DTSTAMP:20170124T175156Z
URL:https://spielwiese.mls-ehemalige.de/events/infoabend-fuer-eltern-der-v
 iertklaessler/
SUMMARY:Infoabend für Eltern der Viertklässler
DESCRIPTION:Der Informationsabend für die Eltern der Viertklässler/innen 
 findet am Mittwoch\, den 15.2.\, ab 20 Uhr in der Aula statt\, zu dem wir 
 ebenfalls herzlich einladen.
CATEGORIES:Infoveranstaltungen,Termine
LOCATION:Aula der MLS\, Savignystraße 2\, Marburg\, Hessen\, 35037\, Deuts
 chland
GEO:50.8107627;8.776724899999977
X-APPLE-STRUCTURED-LOCATION;VALUE=URI;X-ADDRESS=Savignystraße 2\, Marburg\
 , Hessen\, 35037\, Deutschland;X-APPLE-RADIUS=100;X-TITLE=Aula der MLS:geo
 :50.8107627,8.776724899999977
END:VEVENT
BEGIN:VTIMEZONE
TZID:Europe/Berlin
X-LIC-LOCATION:Europe/Berlin
BEGIN:STANDARD
DTSTART:20161030T020000
TZOFFSETFROM:+0200
TZOFFSETTO:+0100
TZNAME:CET
END:STANDARD
END:VTIMEZONE
END:VCALENDAR