BEGIN:VCALENDAR
VERSION:2.0
PRODID:-//wp-events-plugin.com//7.2.3.1//EN
TZID:Europe/Berlin
X-WR-TIMEZONE:Europe/Berlin
BEGIN:VEVENT
UID:288@spielwiese.mls-ehemalige.de
DTSTART;TZID=Europe/Berlin:20241209T180000
DTEND;TZID=Europe/Berlin:20241209T190000
DTSTAMP:20241104T122902Z
URL:https://spielwiese.mls-ehemalige.de/events/infoabend-gymn-oberstufe-ex
 terne-aufnahmen/
SUMMARY:Infoabend Gymn. Oberstufe externe Aufnahmen
DESCRIPTION:
END:VEVENT
BEGIN:VTIMEZONE
TZID:Europe/Berlin
X-LIC-LOCATION:Europe/Berlin
BEGIN:STANDARD
DTSTART:20241027T020000
TZOFFSETFROM:+0200
TZOFFSETTO:+0100
TZNAME:CET
END:STANDARD
END:VTIMEZONE
END:VCALENDAR