BEGIN:VCALENDAR
VERSION:2.0
PRODID:-//wp-events-plugin.com//7.2.3.1//EN
TZID:Europe/Berlin
X-WR-TIMEZONE:Europe/Berlin
BEGIN:VEVENT
UID:61@spielwiese.mls-ehemalige.de
DTSTART;TZID=Europe/Berlin:20180213T190000
DTEND;TZID=Europe/Berlin:20180213T203000
DTSTAMP:20180131T171225Z
URL:https://spielwiese.mls-ehemalige.de/events/informationsabend-fuer-an-n
 achhilfe-interessierte-schuelerinnen-und-schueler-der-sek-i-und-deren-elte
 rn/
SUMMARY:SHS: Informationsabend für an Nachhilfe interessierte Schülerinne
 n und Schüler der Sek I und deren Eltern
DESCRIPTION:19.00 Uhr in Raum B003.\n\nDie Anmeldung kann nur hier erfolgen
 \, Nachrücker können nur in Ausnahmefällen berücksichtigt werden.\n\nM
 ehr unter Schüler helfen Schülern&nbsp\;⇒\n\nLeitung: N. Schlösser
CATEGORIES:Infoveranstaltungen,Termine
LOCATION:MLS - Raum B003\, Savignystraße 2\, Marburg\, Hessen\, 35037\, De
 utschland
GEO:50.8107627;8.776724899999976
X-APPLE-STRUCTURED-LOCATION;VALUE=URI;X-ADDRESS=Savignystraße 2\, Marburg\
 , Hessen\, 35037\, Deutschland;X-APPLE-RADIUS=100;X-TITLE=MLS - Raum B003:
 geo:50.8107627,8.776724899999976
END:VEVENT
BEGIN:VTIMEZONE
TZID:Europe/Berlin
X-LIC-LOCATION:Europe/Berlin
BEGIN:STANDARD
DTSTART:20171029T020000
TZOFFSETFROM:+0200
TZOFFSETTO:+0100
TZNAME:CET
END:STANDARD
END:VTIMEZONE
END:VCALENDAR