BEGIN:VCALENDAR
VERSION:2.0
PRODID:-//wp-events-plugin.com//7.2.3.1//EN
TZID:Europe/Berlin
X-WR-TIMEZONE:Europe/Berlin
BEGIN:VEVENT
UID:24@spielwiese.mls-ehemalige.de
DTSTART;TZID=Europe/Berlin:20170222T190000
DTEND;TZID=Europe/Berlin:20170222T204500
DTSTAMP:20170124T175926Z
URL:https://spielwiese.mls-ehemalige.de/events/informationsveranstaltungen
 -fuer-neuaufnahmen-der-zukuenftigen-jahrgangsstufe-7/
SUMMARY:Info-Abend für Neuaufnahmen der zukünftigen Jgst. 7
DESCRIPTION:Unser Informationsabend für Eltern (und Schüler/innen) findet
  am Mittwoch\, den 22.02.2017\, um 19 Uhr in der Bibliothek der MLS statt.
CATEGORIES:Infoveranstaltungen,Termine
LOCATION:Bibliothek der MLS\, Savignystraße 2\, Marburg\, 35037\, Deutschl
 and
GEO:50.8107627;8.776724899999976
X-APPLE-STRUCTURED-LOCATION;VALUE=URI;X-ADDRESS=Savignystraße 2\, Marburg\
 , 35037\, Deutschland;X-APPLE-RADIUS=100;X-TITLE=Bibliothek der MLS:geo:50
 .8107627,8.776724899999976
END:VEVENT
BEGIN:VTIMEZONE
TZID:Europe/Berlin
X-LIC-LOCATION:Europe/Berlin
BEGIN:STANDARD
DTSTART:20161030T020000
TZOFFSETFROM:+0200
TZOFFSETTO:+0100
TZNAME:CET
END:STANDARD
END:VTIMEZONE
END:VCALENDAR