BEGIN:VCALENDAR
VERSION:2.0
PRODID:-//wp-events-plugin.com//7.2.3.1//EN
TZID:Europe/Berlin
X-WR-TIMEZONE:Europe/Berlin
BEGIN:VEVENT
UID:57@spielwiese.mls-ehemalige.de
DTSTART;TZID=Europe/Berlin:20180122T080000
DTEND;TZID=Europe/Berlin:20180124T160000
DTSTAMP:20171206T124057Z
URL:https://spielwiese.mls-ehemalige.de/events/instrumentalklassen-probent
 age-wolfshausen/
SUMMARY:Instrumentalklassen-Probentage: Wolfshausen
DESCRIPTION:
CATEGORIES:Termine
LOCATION:BFT Wolfshausen\, Im Wolfsbach 28\, Wolfshausen\, Hessen \, 35096\
 , Deutschland
GEO:50.7334895;8.742328899999961
X-APPLE-STRUCTURED-LOCATION;VALUE=URI;X-ADDRESS=Im Wolfsbach 28\, Wolfshaus
 en\, Hessen \, 35096\, Deutschland;X-APPLE-RADIUS=100;X-TITLE=BFT Wolfshau
 sen:geo:50.7334895,8.742328899999961
END:VEVENT
BEGIN:VTIMEZONE
TZID:Europe/Berlin
X-LIC-LOCATION:Europe/Berlin
BEGIN:STANDARD
DTSTART:20171029T020000
TZOFFSETFROM:+0200
TZOFFSETTO:+0100
TZNAME:CET
END:STANDARD
END:VTIMEZONE
END:VCALENDAR