BEGIN:VCALENDAR
VERSION:2.0
PRODID:-//wp-events-plugin.com//7.2.3.1//EN
TZID:Europe/Berlin
X-WR-TIMEZONE:Europe/Berlin
BEGIN:VEVENT
UID:28@spielwiese.mls-ehemalige.de
DTSTART;TZID=Europe/Berlin:20170316T080000
DTEND;TZID=Europe/Berlin:20170316T131500
DTSTAMP:20170117T124834Z
URL:https://spielwiese.mls-ehemalige.de/events/kaenguru-wettbewerb-mathe/
SUMMARY:Känguru - Wettbewerb (Mathe)
DESCRIPTION:
CATEGORIES:Termine
LOCATION:Martin-Luther-Schule\, Savignystraße 2\, Marburg\, Hessen\, 35037
 \, Deutschland
X-APPLE-STRUCTURED-LOCATION;VALUE=URI;X-ADDRESS=Savignystraße 2\, Marburg\
 , Hessen\, 35037\, Deutschland;X-APPLE-RADIUS=100;X-TITLE=Martin-Luther-Sc
 hule:geo:0,0
END:VEVENT
BEGIN:VTIMEZONE
TZID:Europe/Berlin
X-LIC-LOCATION:Europe/Berlin
BEGIN:STANDARD
DTSTART:20161030T020000
TZOFFSETFROM:+0200
TZOFFSETTO:+0100
TZNAME:CET
END:STANDARD
END:VTIMEZONE
END:VCALENDAR