BEGIN:VCALENDAR
VERSION:2.0
PRODID:-//wp-events-plugin.com//7.2.3.1//EN
TZID:Europe/Berlin
X-WR-TIMEZONE:Europe/Berlin
BEGIN:VEVENT
UID:283@spielwiese.mls-ehemalige.de
DTSTART;TZID=Europe/Berlin:20240920T200000
DTEND;TZID=Europe/Berlin:20240920T220000
DTSTAMP:20240906T071329Z
URL:https://spielwiese.mls-ehemalige.de/events/kikuka-oeffentlicher-auftri
 tt-in-der-waggonhalle/
SUMMARY:KiKuKa - Öffentlicher Auftritt in der Waggonhalle
DESCRIPTION:Infoseite und VVK-Link der Waggonhalle
END:VEVENT
BEGIN:VTIMEZONE
TZID:Europe/Berlin
X-LIC-LOCATION:Europe/Berlin
BEGIN:DAYLIGHT
DTSTART:20240331T030000
TZOFFSETFROM:+0100
TZOFFSETTO:+0200
TZNAME:CEST
END:DAYLIGHT
END:VTIMEZONE
END:VCALENDAR