BEGIN:VCALENDAR
VERSION:2.0
PRODID:-//wp-events-plugin.com//7.2.3.1//EN
TZID:Europe/Berlin
X-WR-TIMEZONE:Europe/Berlin
BEGIN:VEVENT
UID:55@spielwiese.mls-ehemalige.de
DTSTART;TZID=Europe/Berlin:20171108T190000
DTEND;TZID=Europe/Berlin:20171108T210000
DTSTAMP:20171029T133034Z
URL:https://spielwiese.mls-ehemalige.de/events/kleinkunstabend-der-q3/
SUMMARY:Kleinkunstabend der Q3
DESCRIPTION:Liebe Eltern\, liebe Lehrerinnen und Lehrer\, liebe Schülerinn
 en und Schüler!\n\nAn unserer Schule ist es schon seit langer Zeit Tradit
 ion\, dass der Abiturjahrgang einen Abend voller Unterhaltung und Freude g
 estaltet.\nDeshalb laden wir Sie herzlich zum diesjährigen Kleinkunstaben
 d des Abiturjahrgangs 2018 der Martin-Luther-Schule ein! Dieser findet am 
 Mittwoch\, den 08. November 2017 um 19.00 Uhr in der Aula der Martin-Luthe
 r-Schule statt.\nEs wird Musik geben\, sowohl Gesang als auch Instrumental
 \, neben mehreren Poetry Slams.\nSelbstverständlich gibt es auch Leckerei
 en und\nErfrischungen\, die dort von uns verkauft werden.\nDer Eintritt is
 t frei!\nAlle Einnahmen\, die wir an diesem Abend machen\, werden für die
  Ausrichtung unseres Abiballs verwendet.\nWir hoffen\, dass wir Ihr Intere
 sse wecken konnten und dass wir einen tollen Abend gemeinsam verbringen we
 rden!\n\nMit freundlichen Grüßen\nDer Abiturjahrgang 2018
CATEGORIES:Termine
LOCATION:Aula der MLS\, Savignystraße 2\, Marburg\, Hessen\, 35037\, Deuts
 chland
GEO:50.8107627;8.776724899999977
X-APPLE-STRUCTURED-LOCATION;VALUE=URI;X-ADDRESS=Savignystraße 2\, Marburg\
 , Hessen\, 35037\, Deutschland;X-APPLE-RADIUS=100;X-TITLE=Aula der MLS:geo
 :50.8107627,8.776724899999977
END:VEVENT
BEGIN:VTIMEZONE
TZID:Europe/Berlin
X-LIC-LOCATION:Europe/Berlin
BEGIN:STANDARD
DTSTART:20171029T020000
TZOFFSETFROM:+0200
TZOFFSETTO:+0100
TZNAME:CET
END:STANDARD
END:VTIMEZONE
END:VCALENDAR