BEGIN:VCALENDAR
VERSION:2.0
PRODID:-//wp-events-plugin.com//7.2.3.1//EN
TZID:Europe/Berlin
X-WR-TIMEZONE:Europe/Berlin
BEGIN:VEVENT
UID:243@spielwiese.mls-ehemalige.de
DTSTART;TZID=Europe/Berlin:20231102T170000
DTEND;TZID=Europe/Berlin:20231102T190000
DTSTAMP:20230424T114405Z
URL:https://spielwiese.mls-ehemalige.de/events/microbesschool-mikroben-mac
 hen-klima/
SUMMARY:microbes@school - Mikroben machen Klima
DESCRIPTION:
CATEGORIES:Konzert/Theater/Lesung/Vortrag
LOCATION:Aula der MLS\, Savignystraße 2\, Marburg\, Hessen\, 35037\, Deuts
 chland
GEO:50.8107627;8.776724899999977
X-APPLE-STRUCTURED-LOCATION;VALUE=URI;X-ADDRESS=Savignystraße 2\, Marburg\
 , Hessen\, 35037\, Deutschland;X-APPLE-RADIUS=100;X-TITLE=Aula der MLS:geo
 :50.8107627,8.776724899999977
END:VEVENT
BEGIN:VTIMEZONE
TZID:Europe/Berlin
X-LIC-LOCATION:Europe/Berlin
BEGIN:STANDARD
DTSTART:20231029T020000
TZOFFSETFROM:+0200
TZOFFSETTO:+0100
TZNAME:CET
END:STANDARD
END:VTIMEZONE
END:VCALENDAR