BEGIN:VCALENDAR
VERSION:2.0
PRODID:-//wp-events-plugin.com//7.2.3.1//EN
TZID:Europe/Berlin
X-WR-TIMEZONE:Europe/Berlin
BEGIN:VEVENT
UID:209@spielwiese.mls-ehemalige.de
DTSTART;TZID=Europe/Berlin:20220330T190000
DTEND;TZID=Europe/Berlin:20220330T210000
DTSTAMP:20220315T120649Z
URL:https://spielwiese.mls-ehemalige.de/events/mls-schulkonzert-i/
SUMMARY:MLS-Schulkonzert I
DESCRIPTION:Einladung-MLS-Schulkonzerte-2022 (pdf)
CATEGORIES:Konzert/Theater/Lesung/Vortrag
LOCATION:Erwin-Picator-Haus (Stadthalle)\, Biegenstraße 15\, 35037 Marburg
 \, Deutschland
GEO:50.8105863;8.775295899999946
X-APPLE-STRUCTURED-LOCATION;VALUE=URI;X-ADDRESS=Biegenstraße 15\, 35037 Ma
 rburg\, Deutschland;X-APPLE-RADIUS=100;X-TITLE=Erwin-Picator-Haus (Stadtha
 lle):geo:50.8105863,8.775295899999946
END:VEVENT
BEGIN:VTIMEZONE
TZID:Europe/Berlin
X-LIC-LOCATION:Europe/Berlin
BEGIN:DAYLIGHT
DTSTART:20220327T030000
TZOFFSETFROM:+0100
TZOFFSETTO:+0200
TZNAME:CEST
END:DAYLIGHT
END:VTIMEZONE
END:VCALENDAR