BEGIN:VCALENDAR
VERSION:2.0
PRODID:-//wp-events-plugin.com//7.2.3.1//EN
TZID:Europe/Berlin
X-WR-TIMEZONE:Europe/Berlin
BEGIN:VEVENT
UID:240@spielwiese.mls-ehemalige.de
DTSTART;TZID=Europe/Berlin:20230321T190000
DTEND;TZID=Europe/Berlin:20230321T213000
DTSTAMP:20230306T181740Z
URL:https://spielwiese.mls-ehemalige.de/events/schulkonzert-ii/
SUMMARY:Schulkonzert II
DESCRIPTION:
CATEGORIES:Konzert/Theater/Lesung/Vortrag
LOCATION:Erwin-Picator-Haus (Stadthalle)\, Biegenstraße 15\, 35037 Marburg
 \, Deutschland
GEO:50.8105863;8.775295899999946
X-APPLE-STRUCTURED-LOCATION;VALUE=URI;X-ADDRESS=Biegenstraße 15\, 35037 Ma
 rburg\, Deutschland;X-APPLE-RADIUS=100;X-TITLE=Erwin-Picator-Haus (Stadtha
 lle):geo:50.8105863,8.775295899999946
END:VEVENT
BEGIN:VTIMEZONE
TZID:Europe/Berlin
X-LIC-LOCATION:Europe/Berlin
BEGIN:STANDARD
DTSTART:20221030T020000
TZOFFSETFROM:+0200
TZOFFSETTO:+0100
TZNAME:CET
END:STANDARD
END:VTIMEZONE
END:VCALENDAR