BEGIN:VCALENDAR
VERSION:2.0
PRODID:-//wp-events-plugin.com//7.2.3.1//EN
TZID:Europe/Berlin
X-WR-TIMEZONE:Europe/Berlin
BEGIN:VEVENT
UID:282@spielwiese.mls-ehemalige.de
DTSTART;TZID=Europe/Berlin:20240702T180000
DTEND;TZID=Europe/Berlin:20240702T192000
DTSTAMP:20240626T113614Z
URL:https://spielwiese.mls-ehemalige.de/events/serenade-der-klassen-6/
SUMMARY:Serenade der Klassen 6
DESCRIPTION:Abschlusskonzert der Musik-Profilklassen der Jahrgangsstufe 6 (
 Bläser-/Gesangs-/Streicherklassen)
LOCATION:Kulturhalle der MLS\, Savignystraße 2\, Marburg\, 35037\, Deutsch
 land
X-APPLE-STRUCTURED-LOCATION;VALUE=URI;X-ADDRESS=Savignystraße 2\, Marburg\
 , 35037\, Deutschland;X-APPLE-RADIUS=100;X-TITLE=Kulturhalle der MLS:geo:0
 ,0
END:VEVENT
BEGIN:VTIMEZONE
TZID:Europe/Berlin
X-LIC-LOCATION:Europe/Berlin
BEGIN:DAYLIGHT
DTSTART:20240331T030000
TZOFFSETFROM:+0100
TZOFFSETTO:+0200
TZNAME:CEST
END:DAYLIGHT
END:VTIMEZONE
END:VCALENDAR