BEGIN:VCALENDAR
VERSION:2.0
PRODID:-//wp-events-plugin.com//7.2.3.1//EN
TZID:Europe/Berlin
X-WR-TIMEZONE:Europe/Berlin
BEGIN:VEVENT
UID:255@spielwiese.mls-ehemalige.de
DTSTART;TZID=Europe/Berlin:20230602T180000
DTEND;TZID=Europe/Berlin:20230602T210000
DTSTAMP:20230524T100628Z
URL:https://spielwiese.mls-ehemalige.de/events/sommerkonzert-in-dorlar-kon
 zertband-und-sek-i-chor/
SUMMARY:Sommerkonzert in Dorlar - Konzertband und Sek-I-Chor
DESCRIPTION:
END:VEVENT
BEGIN:VTIMEZONE
TZID:Europe/Berlin
X-LIC-LOCATION:Europe/Berlin
BEGIN:DAYLIGHT
DTSTART:20230326T030000
TZOFFSETFROM:+0100
TZOFFSETTO:+0200
TZNAME:CEST
END:DAYLIGHT
END:VTIMEZONE
END:VCALENDAR