BEGIN:VCALENDAR
VERSION:2.0
PRODID:-//wp-events-plugin.com//7.2.3.1//EN
TZID:Europe/Berlin
X-WR-TIMEZONE:Europe/Berlin
BEGIN:VEVENT
UID:52@spielwiese.mls-ehemalige.de
DTSTART;TZID=Europe/Berlin:20180117T100000
DTEND;TZID=Europe/Berlin:20180117T120000
DTSTAMP:20180110T205349Z
URL:https://spielwiese.mls-ehemalige.de/events/sprechstunde-fr-seim-fuer-q
 1-3/
SUMMARY:Sprechstunde Fr. Seim (BAfA) zur Berufsorientierung
DESCRIPTION:
CATEGORIES:Infoveranstaltungen,Termine
LOCATION:Martin-Luther-Schule\, Raum A112\, Savignistraße 2\, Marburg\, He
 ssen\, Deutschland
GEO:50.810764;8.776725
X-APPLE-STRUCTURED-LOCATION;VALUE=URI;X-ADDRESS=Savignistraße 2\, Marburg\
 , Hessen\, Deutschland;X-APPLE-RADIUS=100;X-TITLE=Martin-Luther-Schule\, R
 aum A112:geo:50.810764,8.776725
END:VEVENT
BEGIN:VTIMEZONE
TZID:Europe/Berlin
X-LIC-LOCATION:Europe/Berlin
BEGIN:STANDARD
DTSTART:20171029T020000
TZOFFSETFROM:+0200
TZOFFSETTO:+0100
TZNAME:CET
END:STANDARD
END:VTIMEZONE
END:VCALENDAR