BEGIN:VCALENDAR
VERSION:2.0
PRODID:-//wp-events-plugin.com//7.2.3.1//EN
TZID:Europe/Berlin
X-WR-TIMEZONE:Europe/Berlin
BEGIN:VEVENT
UID:258@spielwiese.mls-ehemalige.de
DTSTART;TZID=Europe/Berlin:20230714T180000
DTEND;TZID=Europe/Berlin:20230714T200000
DTSTAMP:20230704T084220Z
URL:https://spielwiese.mls-ehemalige.de/events/theaterabend-an-der-mls/
SUMMARY:Theaterabend an der MLS
DESCRIPTION:
CATEGORIES:Konzert/Theater/Lesung/Vortrag
LOCATION:Aula der MLS\, Savignystraße 2\, Marburg\, Hessen\, 35037\, Deuts
 chland
GEO:50.8107627;8.776724899999977
X-APPLE-STRUCTURED-LOCATION;VALUE=URI;X-ADDRESS=Savignystraße 2\, Marburg\
 , Hessen\, 35037\, Deutschland;X-APPLE-RADIUS=100;X-TITLE=Aula der MLS:geo
 :50.8107627,8.776724899999977
END:VEVENT
BEGIN:VTIMEZONE
TZID:Europe/Berlin
X-LIC-LOCATION:Europe/Berlin
BEGIN:DAYLIGHT
DTSTART:20230326T030000
TZOFFSETFROM:+0100
TZOFFSETTO:+0200
TZNAME:CEST
END:DAYLIGHT
END:VTIMEZONE
END:VCALENDAR