BEGIN:VCALENDAR
VERSION:2.0
PRODID:-//wp-events-plugin.com//7.2.3.1//EN
TZID:Europe/Berlin
X-WR-TIMEZONE:Europe/Berlin
BEGIN:VEVENT
UID:203@spielwiese.mls-ehemalige.de
DTSTART;TZID=Europe/Berlin:20220215T190000
DTEND;TZID=Europe/Berlin:20220215T210000
DTSTAMP:20220210T072140Z
URL:https://spielwiese.mls-ehemalige.de/events/virtueller-informationsaben
 d-kl-5/
SUMMARY:Virtueller Infoabend Kl. 5
DESCRIPTION:
CATEGORIES:Infoveranstaltungen
END:VEVENT
BEGIN:VTIMEZONE
TZID:Europe/Berlin
X-LIC-LOCATION:Europe/Berlin
BEGIN:STANDARD
DTSTART:20211031T020000
TZOFFSETFROM:+0200
TZOFFSETTO:+0100
TZNAME:CET
END:STANDARD
END:VTIMEZONE
END:VCALENDAR